Workbook

Sheet Dotazník
A1: Dotazník pro kluby pracující s mládeží
A2: 1 | B2: Jméno klubu
A3: 2 | B3: Registrační číslo
A4: 3 | B4: Kontaktní osoba
A5: 3a | B5: e-mail
A6: 3b | B6: telefon
A7: 4 | B7: V roce 2019 se do vašeho klubu podařilo při investiční akci ČSJ získat | E7: počet:
A8: 5 | B8: Doplňte do tabulky, o jaké vybavení máte letos zájem. Označení 1 znamená nejvyšší zájem, 5 nejnižší. V jednotlivých polých se mohou opakovat i stejné položky. Možnosti jsou: Laser, závodní optimist, tréningový optimist, 29er, RS Feva | C8: 1
C9: 2
C10: 3
C11: 4
C12: 5
A13: 6 | B13: Kolik dětí (do 18-ti let) chodilo ve Vašem klubu na tréningy na optimistech v roce 2019
A14: =A13+1 -> 7 | B14: Kolik dětí (do 18-ti let) chodilo ve Vašem klubu na tréningy na optimistech v roce 2020
A15: =A14+1 -> 8 | B15: Kolik dětí (do 18-ti let) chodilo ve Vašem klubu na tréningy na RS Feva v roce 2019
A16: =A15+1 -> 9 | B16: Kolik dětí (do 18-ti let) chodilo ve Vašem klubu na tréningy na RS Feva v roce 2020
A17: =A16+1 -> 10 | B17: Kolik dětí (do 18-ti let) chodilo ve Vašem klubu na tréningy na Surfech v roce 2019
A18: =A17+1 -> 11 | B18: Kolik dětí (do 18-ti let) chodilo ve Vašem klubu na tréningy na Surfech v roce 2020
A19: =A18+1 -> 12 | B19: Kolik dětí (do 18-ti let) chodilo ve Vašem klubu na tréningy na Laserech v roce 2019
A20: =A19+1 -> 13 | B20: Kolik dětí (do 18-ti let) chodilo ve Vašem klubu na tréningy na Laserech v roce 2020
A21: 14 | B21: Na jakých lodních třídách se u Vás tréningy mládeže provozují? | C21: 1
C22: 2
C23: 3
C24: 4
C25: 5
A26: =A21+1 -> 15 | B26: Kolik máte tréningových plachetnic Optimist (vlastněných klubem), na kterých se u Vás trénuje
A27: 16 | B27: Kolik máte závodních plachetnic Optimist (vlastněných klubem), na kterých se u Vás trénuje
A28: 17 | B28: Kolik máte tréningových plachetnic RS Feva (vlastněných klubem), na kterých se u Vás trénuje
A29: 18 | B29: Kolik máte závodních plachetnic RS Feva (vlastněných klubem), na kterých se u Vás trénuje
A30: 19 | B30: Kolik máte tréningových prken Bic Techno a IQ Foil (vlastněných klubem), na kterých se u Vás trénuje
A31: 20 | B31: Kolik máte závodních prken Bic Techno a IQ Foil (vlastněných klubem), na kterých se u Vás trénuje
A32: 21 | B32: Kolik máte závodních plachetnic Laser (vlastněných klubem), na kterých se u Vás trénuje
A33: 22 | B33: Kolik máte tréningových plachetnic Laser (vlastněných klubem), na kterých se u Vás trénuje
A34: 23 | B34: Kolik máte motorových člunů aktivně využívaných na tréningy mládeže
A35: 24 | B35: Kolik trenérů 3 třídy se u Vás aktivně (min 1x týdně) věnuje tréningu mládeže
A36: 25 | B36: Kolik trenérů 2 třídy se u Vás aktivně (min 1x týdně) věnuje tréningu mládeže
A37: 26 | B37: máte zavedenou pravidelnou zimní přípravu pro Vaše svěřence (ANO/NE)
A38: 27 | B38: Kolik startů na závodech koeficientu 3 a vyšším měly za rok 2020 děti z Vašeho klubu, které do Vašeho klubu přišly v roce 2019 a 2020 na Optimistech
... A49: 38 | B49: Máte vlastní webové stránky? Pokud ano, uveďte jaké.

Sheet back side
A2: 1 | B2: =Dotazník!D2 -> 0
A3: =A2+1 -> 2 | B3: =Dotazník!D3 -> 0
A4: =A3+1 -> 3 | B4: =Dotazník!D4 -> 0
A5: =A4+1 -> 4 | B5: =Dotazník!D5 -> 0
A6: =A5+1 -> 5 | B6: =Dotazník!D6 -> 0
A7: =A6+1 -> 6 | B7: =Dotazník!D7 -> 0
A8: =A7+1 -> 7 | B8: =Dotazník!D8 -> 0
A9: =A8+1 -> 8 | B9: =Dotazník!D9 -> 0
A10: =A9+1 -> 9 | B10: =Dotazník!D10 -> 0
A11: =A10+1 -> 10 | B11: =Dotazník!D11 -> 0
A12: =A11+1 -> 11 | B12: =Dotazník!D12 -> 0
A13: =A12+1 -> 12 | B13: =Dotazník!D19 -> 0
A14: =A13+1 -> 13 | B14: =Dotazník!D20 -> 0
A15: =A14+1 -> 14 | B15: =Dotazník!D21 -> 0
A16: =A15+1 -> 15 | B16: =Dotazník!D22 -> 0
A17: =A16+1 -> 16 | B17: =Dotazník!D23 -> 0
A18: =A17+1 -> 17 | B18: =Dotazník!D24 -> 0
A19: =A18+1 -> 18 | B19: =Dotazník!D25 -> 0
A20: =A19+1 -> 19 | B20: =Dotazník!D26 -> 0
A21: =A20+1 -> 20 | B21: =Dotazník!D27 -> 0
A22: =A21+1 -> 21 | B22: =Dotazník!D32 -> 0
A23: =A22+1 -> 22 | B23: =Dotazník!D33 -> 0
A24: =A23+1 -> 23 | B24: =Dotazník!D34 -> 0
A25: =A24+1 -> 24 | B25: =Dotazník!D35 -> 0
A26: =A25+1 -> 25 | B26: =Dotazník!D36 -> 0

Sheet koeficienty
D1: koeficient
A2: bod | D2: Vojta | E2: Tomáš | F2: Martin
A3: 1 | B3: Jméno klubu
A4: 2 | B4: Registrační číslo
A5: 3 | B5: Kontaktní osoba
A6: 3a | B6: e-mail
A7: 3b | B7: telefon
A8: 4 | B8: V roce 2019 se do vašeho klubu podařilo při investiční akci ČSJ získat
A9: 5 | B9: Doplňte do tabulky, o jaké vybavení máte letos zájem. Označení 1 znamená nejvyšší zájem, 5 nejnižší. V jednotlivých polých se mohou opakovat i stejné položky. Možnosti jsou: Laser, závodní optimist, tréningový optimist, 29er, motorový člun | C9: 1
C10: 2
C11: 3
C12: 4
C13: 5
A14: 6 | B14: Kolik dětí (do 18-ti let) chodilo ve Vašem klubu na tréningy na optimistech v roce 2019 | D14: 0.1*bod 6
A15: =A14+1 -> 7 | B15: Kolik dětí (do 18-ti let) chodilo ve Vašem klubu na tréningy na optimistech v roce 2020 | D15: (bod 7-bod 6), ale vždy 0 a více
A16: =A15+1 -> 8 | B16: Kolik dětí (do 18-ti let) chodilo ve Vašem klubu na tréningy na optimistech v roce 2019 | D16: 0.1* bod 8
A17: =A16+1 -> 9 | B17: Kolik dětí (do 18-ti let) chodilo ve Vašem klubu na tréningy na optimistech v roce 2020 | D17: (bod 9-bod 8), ale vždy 0 a více
A18: 10 | B18: Na jakých lodních třídách se u Vás tréningy mládeže provozují | C18: 1 | D18: Q - 2
C19: 2 | D19: ILCA - 2
C20: 3 | D20: 29er, Bic - 1,5
C21: 4 | D21: RsF - 1
C22: 5 | D22: Ostatní - 0.5
A23: 11 | B23: Kolik máte tréningových plachetnic Optimist (vlastněných klubem), na kterých se u Vás trénuje | D23: (bod 11 +bod 12-bod 7)*(-1), vždy ale 0 a méně
A24: 12 | B24: Kolik máte závodních plachetnic Optimist (vlastněných klubem), na kterých se u Vás trénuje
A25: 13 | B25: Kolik máte závodních plachetnic Laser (vlastněných klubem), na kterých se u Vás trénuje | D25: (bod 13 +bod 14-bod 9)*(-1), vždy ale 0 a méně
A26: 14 | B26: Kolik máte tréningových plachetnic Laser (vlastněných klubem), na kterých se u Vás trénuje
A27: 15 | B27: Kolik máte motorových člunů aktivně využívaných na tréningy mládeže | D27: 1 bod za každý člun
A28: 16 | B28: Kolik trenérů 3 třídy se u Vás aktivně (min 1x týdně) věnuje tréningu mládeže | D28: 0.5 bodu za trenéra
A29: 17 | B29: Kolik trenérů 2 třídy se u Vás aktivně (min 1x týdně) věnuje tréningu mládeže | D29: 1 bod za trenéra
A30: 18 | B30: máte zavedenou pravidelnou zimní přípravu pro Vaše svěřence (ANO/NE) | D30: ANO = 1 bod
A31: 19 | B31: Kolik startů na závodech koeficientu 3 a vyšším měly za rok 2020 děti z Vašeho klubu, které do Vašeho klubu přišly v roce 2019 a 2020 na Optimistech | D31: 0.1 bodu za start
A32: 20 | B32: Kolik startů na závodech koeficientu 3 a vyšším měly za rok 2020 děti z Vašeho klubu, které do Vašeho klubu přišly v roce 2019 a 2020 na Laserech | D32: 0. bodu za start
