Workbook
Name __Anonymous_Sheet_DB__0: "$#REF!.$A$2:$H$40"

Sheet do-14-2024
A1: Závodníci do 14 let včetně s 2 a více starty v závodech s koeficientem 3+ v sezóně 2024 a s méně než 2 starty v roce 2023 (celkem 30)
A2: reg. č. | B2: Klub | C2: Q | D2: RSF | E2: T93 | F2: Cad | G2: RST | H2: Kaj | I2: FOI | J2: vynásobeno | K2: procenta
A3: 1101 | B3: Český Yacht Klub | C3: 1 | D3: 2 | F3: 2 | J3: =SUM(C3:E3)*2+SUM(F3:I3) -> 8 | K3: =J3/J$19 -> 0.14545455
A4: 1130 | B4: YACHT CLUB CERE, z.s. | C4: 2 | J4: =SUM(C4:E4)*2+SUM(F4:I4) -> 4 | K4: =J4/J$19 -> 0.072727273
A5: 1401 | B5: TJ Lokomotiva Plzeň z.s. | D5: 1 | J5: =SUM(C5:E5)*2+SUM(F5:I5) -> 2 | K5: =J5/J$19 -> 0.036363636
A6: 1402 | B6: Jachetní klub Plzeň, z.s. | C6: 2 | E6: 1 | J6: =SUM(C6:E6)*2+SUM(F6:I6) -> 6 | K6: =J6/J$19 -> 0.10909091
A7: 1406 | B7: TJ Prazdroj Plzeň z.s., JO | C7: 1 | J7: =SUM(C7:E7)*2+SUM(F7:I7) -> 2 | K7: =J7/J$19 -> 0.036363636
A8: 1602 | B8: YCR-Jachting Roudnice nad Labem, z.s. | F8: 1 | J8: =SUM(C8:E8)*2+SUM(F8:I8) -> 1 | K8: =J8/J$19 -> 0.018181818
A9: 1604 | B9: Yacht Club Banik Most z.s. | C9: 1 | D9: 3 | J9: =SUM(C9:E9)*2+SUM(F9:I9) -> 8 | K9: =J9/J$19 -> 0.14545455
A10: 1606 | B10: Vodní sporty Duchcov, z.s. | C10: 1 | J10: =SUM(C10:E10)*2+SUM(F10:I10) -> 2 | K10: =J10/J$19 -> 0.036363636
A11: 1702 | B11: Jachtklub Máchova Jezera Staré Splavy, z.s. | C11: 2 | J11: =SUM(C11:E11)*2+SUM(F11:I11) -> 4 | K11: =J11/J$19 -> 0.072727273
A12: 1705 | B12: TJ Delfín Jablonec | E12: 2 | J12: =SUM(C12:E12)*2+SUM(F12:I12) -> 4 | K12: =J12/J$19 -> 0.072727273
A13: 1801 | B13: TJ Slávia-jachting Česká Skalice, z.s. | D13: 2 | J13: =SUM(C13:E13)*2+SUM(F13:I13) -> 4 | K13: =J13/J$19 -> 0.072727273
A14: 1901 | B14: Yachtclub Pardubice, z.s. | C14: 1 | D14: 1 | J14: =SUM(C14:E14)*2+SUM(F14:I14) -> 4 | K14: =J14/J$19 -> 0.072727273
A15: 2101 | B15: Jachtklub Brno, z.s. | C15: 1 | J15: =SUM(C15:E15)*2+SUM(F15:I15) -> 2 | K15: =J15/J$19 -> 0.036363636
A16: 2103 | B16: Yacht Club LODNÍ SPORTY BRNO, pobočný spolek | D16: 1 | J16: =SUM(C16:E16)*2+SUM(F16:I16) -> 2 | K16: =J16/J$19 -> 0.036363636
A17: 2403 | B17: Klub jachtingu Těrlicko, z.s. | G17: 2 | J17: =SUM(C17:E17)*2+SUM(F17:I17) -> 2 | K17: =J17/J$19 -> 0.036363636
A19: =SUMPRODUCT((A3:A18<>"")/(COUNTIF(A3:A18,A3:A18)+(A3:A18=""))) -> 15 | C19: =SUM(C3:C18) -> 12 | D19: =SUM(D3:D18) -> 10 | E19: =SUM(E3:E18) -> 3 | F19: =SUM(F3:F18) -> 3 | G19: =SUM(G3:G18) -> 2 | H19: =SUM(H3:H18) -> 0 | I19: =SUM(I3:I18) -> 0 | J19: =SUM(J3:J18) -> 55 | K19: =SUM(K3:K18) -> 1
C20: =SUM(C19:I19) -> 30

Sheet 15-18-2024
A1: Závodníci 15 - 18 let včetně s 2 a více starty v závodech s koeficientem 3+ v sezóně 2024 a s 1 a méně starty v závodě s k3+ v roce 2023 v přípravné třídě (celkem 49)
A2: reg.č. | B2: Klub | C2: hlavní LT | D2: L47 | E2: LaR | F2: 29er | G2: T93 | H2: iQF | I2: FB | J2: RS5 | K2: Vau | L2: WIF | M2: vynásobeno | N2: procenta
A3: 1101 | B3: Český Yacht Klub | C3: 29er | D3: 2 | F3: 2 | I3: 1 | M3: =SUM(D3:H3)*2+SUM(I3:L3) -> 9 | N3: =M3/M$26 -> 0.10465116
A4: 1130 | B4: YACHT CLUB CERE, z.s. | C4: 29er | D4: 1 | E4: 1 | F4: 4 | M4: =SUM(D4:H4)*2+SUM(I4:L4) -> 12 | N4: =M4/M$26 -> 0.13953488
A5: 1203 | B5: Tělovýchovná jednota Neratovice z.s. | C5: RS5 | D5: 1 | F5: 1 | J5: 1 | M5: =SUM(D5:H5)*2+SUM(I5:L5) -> 5 | N5: =M5/M$26 -> 0.058139535
A6: 1214 | B6: Jachtklub Toušeň, z.s. | C6: 29er | E6: 1 | F6: 2 | M6: =SUM(D6:H6)*2+SUM(I6:L6) -> 6 | N6: =M6/M$26 -> 0.069767442
A7: 1302 | B7: Yacht Club DIM Bezdrev | C7: iQF | H7: 1 | M7: =SUM(D7:H7)*2+SUM(I7:L7) -> 2 | N7: =M7/M$26 -> 0.023255814
A8: 1313 | B8: Yacht klub Jestřábí, z.s. | C8: WIF | L8: 1 | M8: =SUM(D8:H8)*2+SUM(I8:L8) -> 1 | N8: =M8/M$26 -> 0.011627907
A9: 1402 | B9: Jachetní klub Plzeň, z.s. | C9: L47 | D9: 1 | M9: =SUM(D9:H9)*2+SUM(I9:L9) -> 2 | N9: =M9/M$26 -> 0.023255814
A10: 1504 | B10: Jachtklub Cheb, z.s. | C10: L47 | D10: 1 | M10: =SUM(D10:H10)*2+SUM(I10:L10) -> 2 | N10: =M10/M$26 -> 0.023255814
A11: 1606 | B11: Vodní sporty Duchcov, z.s. | C11: L47 | D11: 1 | M11: =SUM(D11:H11)*2+SUM(I11:L11) -> 2 | N11: =M11/M$26 -> 0.023255814
A12: 1609 | B12: SK Štětí, z.s. | C12: L47 | D12: 2 | M12: =SUM(D12:H12)*2+SUM(I12:L12) -> 4 | N12: =M12/M$26 -> 0.046511628
A13: 1702 | B13: Jachtklub Máchova Jezera Staré Splavy, z.s. | C13: L47 | D13: 2 | M13: =SUM(D13:H13)*2+SUM(I13:L13) -> 4 | N13: =M13/M$26 -> 0.046511628
A14: 1705 | B14: TJ Delfín Jablonec | C14: T93 | G14: 2 | K14: 1 | M14: =SUM(D14:H14)*2+SUM(I14:L14) -> 5 | N14: =M14/M$26 -> 0.058139535
A15: 2001 | B15: TJ Žďár nad Sázavou z.s. - Yacht Club Velké Dářko | C15: RS5 | J15: 1 | M15: =SUM(D15:H15)*2+SUM(I15:L15) -> 1 | N15: =M15/M$26 -> 0.011627907
A16: 2101 | B16: Jachtklub Brno, z.s. | C16: L47 | D16: 5 | M16: =SUM(D16:H16)*2+SUM(I16:L16) -> 10 | N16: =M16/M$26 -> 0.11627907
A17: 2103 | B17: Yacht Club LODNÍ SPORTY BRNO, pobočný spolek | C17: RS5 | F17: 2 | J17: 6 | M17: =SUM(D17:H17)*2+SUM(I17:L17) -> 10 | N17: =M17/M$26 -> 0.11627907
A18: 2110 | B18: Tělovýchovná jednota Rapid Brno, z.s. | C18: T93 | G18: 1 | M18: =SUM(D18:H18)*2+SUM(I18:L18) -> 2 | N18: =M18/M$26 -> 0.023255814
A19: 2205 | B19: TJ Sokol Tovačov - oddíl jachtingu | C19: L47 | D19: 1 | M19: =SUM(D19:H19)*2+SUM(I19:L19) -> 2 | N19: =M19/M$26 -> 0.023255814
A20: 2301 | B20: Lodní Sporty Kroměříž, JO | C20: L47 | D20: 1 | M20: =SUM(D20:H20)*2+SUM(I20:L20) -> 2 | N20: =M20/M$26 -> 0.023255814
A21: 2405 | B21: TJ Sokol Palkovice - oddíl jachtingu | C21: L47 | D21: 1 | M21: =SUM(D21:H21)*2+SUM(I21:L21) -> 2 | N21: =M21/M$26 -> 0.023255814
A22: 2407 | B22: Yacht Club Krnov | C22: RS5 | J22: 1 | M22: =SUM(D22:H22)*2+SUM(I22:L22) -> 1 | N22: =M22/M$26 -> 0.011627907
A23: 2419 | B23: Jachetní Klub Ostrava z.s. | C23: L47 | D23: 1 | M23: =SUM(D23:H23)*2+SUM(I23:L23) -> 2 | N23: =M23/M$26 -> 0.023255814
A26: =SUMPRODUCT((A3:A25<>"")/(COUNTIF(A3:A25,A3:A25)+(A3:A25=""))) -> 21 | D26: =SUM(D3:D24) -> 20 | E26: =SUM(E3:E24) -> 2 | F26: =SUM(F3:F24) -> 11 | G26: =SUM(G3:G24) -> 3 | H26: =SUM(H3:H24) -> 1 | I26: =SUM(I3:I24) -> 1 | J26: =SUM(J3:J24) -> 9 | K26: =SUM(K3:K24) -> 1 | ... N26: =SUM(N3:N24) -> 1
D27: =SUM(D26:L26) -> 49

Sheet účast na závodech
A1: Počty startů klubových týmů na pohárových závodech 2024
A2: reg.č. | B2: Klub | C2: počet startů celkem | D2: procenta | F2: 700000
A3: 1101 | B3: Český Yacht Klub | C3: 97 | D3: =C3/C$47 -> 0.1552 | F3: =D3*$F$2 -> 108640
A4: 1130 | B4: YC CERE Praha | C4: 107 | D4: =C4/C$47 -> 0.1712 | F4: =D4*$F$2 -> 119840
A5: 1145 | B5: ORTHODOCKS YACHT CLUB O.S. | C5: 0 | D5: =C5/C$47 -> 0 | F5: =D5*$F$2 -> 0
A6: 1201 | B6: Sokol Dobřichovice | C6: 0 | D6: =C6/C$47 -> 0 | F6: =D6*$F$2 -> 0
A7: 1203 | B7: YC Neratovice | C7: 4 | D7: =C7/C$47 -> 0.0064 | F7: =D7*$F$2 -> 4480
A8: 1206 | B8: JO TJ Bohemia Poděbrady | C8: 0 | D8: =C8/C$47 -> 0 | F8: =D8*$F$2 -> 0
A9: 1214 | B9: JK Toušeň | C9: 17 | D9: =C9/C$47 -> 0.0272 | F9: =D9*$F$2 -> 19040
A10: 1302 | B10: DIM Bezdrev | C10: 0 | D10: =C10/C$47 -> 0 | F10: =D10*$F$2 -> 0
A11: 1305 | B11: YC Černá v Pošumaví | C11: 3 | D11: =C11/C$47 -> 0.0048 | F11: =D11*$F$2 -> 3360
A12: 1401 | B12: Lokomotiva Plzeň | C12: 12 | D12: =C12/C$47 -> 0.0192 | F12: =D12*$F$2 -> 13440
A13: 1402 | B13: Jacht Klub Plzeň | C13: 11 | D13: =C13/C$47 -> 0.0176 | F13: =D13*$F$2 -> 12320
A14: 1504 | B14: JK Cheb | C14: 31 | D14: =C14/C$47 -> 0.0496 | F14: =D14*$F$2 -> 34720
... A44: 2419 | B44: Yacht Club Jezero Hlučín | C44: 0 | D44: =C44/C$47 -> 0 | F44: =D44*$F$2 -> 0
A47: =SUMPRODUCT((A3:A46<>"")/(COUNTIF(A3:A46,A3:A46)+(A3:A46=""))) -> 42 | B47: CELKEM: | C47: =SUM(C3:C46) -> 625 | D47: =SUM(D3:D46) -> 1 | F47: =SUM(F3:F46) -> 700000

Sheet CELKEM
B1: V programu: | C1: Do 14 let | D1: ='do-14-2024'!$J$19/($B$2/$P$1) -> 0.3125 | F1: 15 – 18 let | G1: ='15-18-2024'!$M$26/($B$2/$P$1) -> 0.48863636 | I1: ="Původní: " & TEXT((1-D1-G1),"0,0%") -> Původní: 19,9% | K1: CELKEM | M1: „Jako 2018“ | N1: Na „dítě“: | P1: 5000
A2: Reg.č. | B2: 880000 | C2: % | D2: Kč | F2: % | G2: Kč | I2: % | J2: Kč | M2: Kč | N2: delta | O2: Reg.č. | P2: klub
A3: ='účast na závodech'!A3 -> 1101 | B3: ='účast na závodech'!B3 -> Český Yacht Klub | C3: ='do-14-2024'!K3 -> 0.14545455 | D3: =$B$2*$D$1*C3 -> 40000 | F3: ='15-18-2024'!N3 -> 0.10465116 | G3: =$B$2*$G$1*F3 -> 45000 | I3: ='účast na závodech'!D3 -> 0.1552 | J3: =$B$2*(1-$D$1-$G$1)*I3 -> 27160 | K3: =SUM(D3,G3,J3) -> 112160 | M3: ='účast na závodech'!F3 -> 108640 | N3: =K3-M3 -> 3520 | O3: =A3 -> 1101 | P3: =B3 -> Český Yacht Klub
A4: ='účast na závodech'!A4 -> 1130 | B4: ='účast na závodech'!B4 -> YC CERE Praha | C4: ='do-14-2024'!K4 -> 0.072727273 | D4: =$B$2*$D$1*C4 -> 20000 | F4: ='15-18-2024'!N4 -> 0.13953488 | G4: =$B$2*$G$1*F4 -> 60000 | I4: ='účast na závodech'!D4 -> 0.1712 | J4: =$B$2*(1-$D$1-$G$1)*I4 -> 29960 | K4: =SUM(D4,G4,J4) -> 109960 | M4: ='účast na závodech'!F4 -> 119840 | N4: =K4-M4 -> -9880 | O4: =A4 -> 1130 | P4: =B4 -> YC CERE Praha
A5: ='účast na závodech'!A5 -> 1145 | B5: ='účast na závodech'!B5 -> ORTHODOCKS YACHT CLUB O.S. | I5: ='účast na závodech'!D5 -> 0 | J5: =$B$2*(1-$D$1-$G$1)*I5 -> 0 | K5: =SUM(D5,G5,J5) -> 0 | M5: ='účast na závodech'!F5 -> 0 | N5: =K5-M5 -> 0 | O5: =A5 -> 1145 | P5: =B5 -> ORTHODOCKS YACHT CLUB O.S.
A6: ='účast na závodech'!A6 -> 1201 | B6: ='účast na závodech'!B6 -> Sokol Dobřichovice | I6: ='účast na závodech'!D6 -> 0 | J6: =$B$2*(1-$D$1-$G$1)*I6 -> 0 | K6: =SUM(D6,G6,J6) -> 0 | M6: ='účast na závodech'!F6 -> 0 | N6: =K6-M6 -> 0 | O6: =A6 -> 1201 | P6: =B6 -> Sokol Dobřichovice
A7: ='účast na závodech'!A7 -> 1203 | B7: ='účast na závodech'!B7 -> YC Neratovice | F7: ='15-18-2024'!N5 -> 0.058139535 | G7: =$B$2*$G$1*F7 -> 25000 | I7: ='účast na závodech'!D7 -> 0.0064 | J7: =$B$2*(1-$D$1-$G$1)*I7 -> 1120 | K7: =SUM(D7,G7,J7) -> 26120 | M7: ='účast na závodech'!F7 -> 4480 | N7: =K7-M7 -> 21640 | O7: =A7 -> 1203 | P7: =B7 -> YC Neratovice
A8: ='účast na závodech'!A8 -> 1206 | B8: ='účast na závodech'!B8 -> JO TJ Bohemia Poděbrady | I8: ='účast na závodech'!D8 -> 0 | J8: =$B$2*(1-$D$1-$G$1)*I8 -> 0 | K8: =SUM(D8,G8,J8) -> 0 | M8: ='účast na závodech'!F8 -> 0 | N8: =K8-M8 -> 0 | O8: =A8 -> 1206 | P8: =B8 -> JO TJ Bohemia Poděbrady
A9: ='účast na závodech'!A9 -> 1214 | B9: ='účast na závodech'!B9 -> JK Toušeň | F9: ='15-18-2024'!N6 -> 0.069767442 | G9: =$B$2*$G$1*F9 -> 30000 | I9: ='účast na závodech'!D9 -> 0.0272 | J9: =$B$2*(1-$D$1-$G$1)*I9 -> 4760 | K9: =SUM(D9,G9,J9) -> 34760 | M9: ='účast na závodech'!F9 -> 19040 | N9: =K9-M9 -> 15720 | O9: =A9 -> 1214 | P9: =B9 -> JK Toušeň
A10: ='účast na závodech'!A10 -> 1302 | B10: ='účast na závodech'!B10 -> DIM Bezdrev | F10: ='15-18-2024'!N7 -> 0.023255814 | G10: =$B$2*$G$1*F10 -> 10000 | I10: ='účast na závodech'!D10 -> 0 | J10: =$B$2*(1-$D$1-$G$1)*I10 -> 0 | K10: =SUM(D10,G10,J10) -> 10000 | M10: ='účast na závodech'!F10 -> 0 | N10: =K10-M10 -> 10000 | O10: =A10 -> 1302 | P10: =B10 -> DIM Bezdrev
A11: ='účast na závodech'!A11 -> 1305 | B11: ='účast na závodech'!B11 -> YC Černá v Pošumaví | I11: ='účast na závodech'!D11 -> 0.0048 | J11: =$B$2*(1-$D$1-$G$1)*I11 -> 840 | K11: =SUM(D11,G11,J11) -> 840 | M11: ='účast na závodech'!F11 -> 3360 | N11: =K11-M11 -> -2520 | O11: =A11 -> 1305 | P11: =B11 -> YC Černá v Pošumaví
A12: ='15-18-2024'!A8 -> 1313 | B12: ='15-18-2024'!B8 -> Yacht klub Jestřábí, z.s. | F12: ='15-18-2024'!N8 -> 0.011627907 | G12: =$B$2*$G$1*F12 -> 5000 | K12: =SUM(D12,G12,J12) -> 5000 | N12: =K12-M12 -> 5000 | O12: =A12 -> 1313 | P12: =B12 -> Yacht klub Jestřábí, z.s.
A13: ='účast na závodech'!A12 -> 1401 | B13: ='účast na závodech'!B12 -> Lokomotiva Plzeň | C13: ='do-14-2024'!K5 -> 0.036363636 | D13: =$B$2*$D$1*C13 -> 10000 | I13: ='účast na závodech'!D12 -> 0.0192 | J13: =$B$2*(1-$D$1-$G$1)*I13 -> 3360 | K13: =SUM(D13,G13,J13) -> 13360 | M13: ='účast na závodech'!F12 -> 13440 | N13: =K13-M13 -> -80 | O13: =A13 -> 1401 | P13: =B13 -> Lokomotiva Plzeň
A14: ='účast na závodech'!A13 -> 1402 | B14: ='účast na závodech'!B13 -> Jacht Klub Plzeň | C14: ='do-14-2024'!K6 -> 0.10909091 | D14: =$B$2*$D$1*C14 -> 30000 | F14: ='15-18-2024'!N9 -> 0.023255814 | G14: =$B$2*$G$1*F14 -> 10000 | I14: ='účast na závodech'!D13 -> 0.0176 | J14: =$B$2*(1-$D$1-$G$1)*I14 -> 3080 | K14: =SUM(D14,G14,J14) -> 43080 | M14: ='účast na závodech'!F13 -> 12320 | N14: =K14-M14 -> 30760 | O14: =A14 -> 1402 | P14: =B14 -> Jacht Klub Plzeň
A15: ='do-14-2024'!A7 -> 1406 | B15: ='do-14-2024'!B7 -> TJ Prazdroj Plzeň z.s., JO | C15: ='do-14-2024'!K7 -> 0.036363636 | D15: =$B$2*$D$1*C15 -> 10000 | K15: =SUM(D15,G15,J15) -> 10000 | N15: =K15-M15 -> 10000 | O15: =A15 -> 1406 | P15: =B15 -> TJ Prazdroj Plzeň z.s., JO
A16: ='účast na závodech'!A14 -> 1504 | B16: ='účast na závodech'!B14 -> JK Cheb | F16: ='15-18-2024'!N10 -> 0.023255814 | G16: =$B$2*$G$1*F16 -> 10000 | I16: ='účast na závodech'!D14 -> 0.0496 | J16: =$B$2*(1-$D$1-$G$1)*I16 -> 8680 | K16: =SUM(D16,G16,J16) -> 18680 | M16: ='účast na závodech'!F14 -> 34720 | N16: =K16-M16 -> -16040 | O16: =A16 -> 1504 | P16: =B16 -> JK Cheb
A17: ='účast na závodech'!A15 -> 1508 | B17: ='účast na závodech'!B15 -> JK Sokolov | I17: ='účast na závodech'!D15 -> 0 | J17: =$B$2*(1-$D$1-$G$1)*I17 -> 0 | K17: =SUM(D17,G17,J17) -> 0 | M17: ='účast na závodech'!F15 -> 0 | N17: =K17-M17 -> 0 | O17: =A17 -> 1508 | P17: =B17 -> JK Sokolov
A18: ='účast na závodech'!A16 -> 1602 | B18: ='účast na závodech'!B16 -> YCR JACHTING Roudnice nad Labem | C18: ='do-14-2024'!K8 -> 0.018181818 | D18: =$B$2*$D$1*C18 -> 5000 | I18: ='účast na závodech'!D16 -> 0.0544 | J18: =$B$2*(1-$D$1-$G$1)*I18 -> 9520 | K18: =SUM(D18,G18,J18) -> 14520 | M18: ='účast na závodech'!F16 -> 38080 | N18: =K18-M18 -> -23560 | O18: =A18 -> 1602 | P18: =B18 -> YCR JACHTING Roudnice nad Labem
A19: ='účast na závodech'!A17 -> 1603 | B19: ='účast na závodech'!B17 -> ASK Lovosice | I19: ='účast na závodech'!D17 -> 0.0064 | J19: =$B$2*(1-$D$1-$G$1)*I19 -> 1120 | K19: =SUM(D19,G19,J19) -> 1120 | M19: ='účast na závodech'!F17 -> 4480 | N19: =K19-M19 -> -3360 | O19: =A19 -> 1603 | P19: =B19 -> ASK Lovosice
A20: ='účast na závodech'!A18 -> 1604 | B20: ='účast na závodech'!B18 -> Yacht Club Banik Most z.s. | C20: ='do-14-2024'!K9 -> 0.14545455 | D20: =$B$2*$D$1*C20 -> 40000 | I20: ='účast na závodech'!D18 -> 0.0192 | J20: =$B$2*(1-$D$1-$G$1)*I20 -> 3360 | K20: =SUM(D20,G20,J20) -> 43360 | M20: ='účast na závodech'!F18 -> 13440 | N20: =K20-M20 -> 29920 | O20: =A20 -> 1604 | P20: =B20 -> Yacht Club Banik Most z.s.
A21: ='účast na závodech'!A19 -> 1606 | B21: ='účast na závodech'!B19 -> TJ VS Duchcov | C21: ='do-14-2024'!K10 -> 0.036363636 | D21: =$B$2*$D$1*C21 -> 10000 | F21: ='15-18-2024'!N11 -> 0.023255814 | G21: =$B$2*$G$1*F21 -> 10000 | I21: ='účast na závodech'!D19 -> 0.0048 | J21: =$B$2*(1-$D$1-$G$1)*I21 -> 840 | K21: =SUM(D21,G21,J21) -> 20840 | M21: ='účast na závodech'!F19 -> 3360 | N21: =K21-M21 -> 17480 | O21: =A21 -> 1606 | P21: =B21 -> TJ VS Duchcov
A22: ='účast na závodech'!A20 -> 1607 | B22: ='účast na závodech'!B20 -> YC Nechranice | I22: ='účast na závodech'!D20 -> 0 | J22: =$B$2*(1-$D$1-$G$1)*I22 -> 0 | K22: =SUM(D22,G22,J22) -> 0 | M22: ='účast na závodech'!F20 -> 0 | N22: =K22-M22 -> 0 | O22: =A22 -> 1607 | P22: =B22 -> YC Nechranice
A23: ='účast na závodech'!A21 -> 1609 | B23: ='účast na závodech'!B21 -> YC SK Štětí | F23: ='15-18-2024'!N12 -> 0.046511628 | G23: =$B$2*$G$1*F23 -> 20000 | I23: ='účast na závodech'!D21 -> 0.0048 | J23: =$B$2*(1-$D$1-$G$1)*I23 -> 840 | K23: =SUM(D23,G23,J23) -> 20840 | M23: ='účast na závodech'!F21 -> 3360 | N23: =K23-M23 -> 17480 | O23: =A23 -> 1609 | P23: =B23 -> YC SK Štětí
A24: ='účast na závodech'!A22 -> 1701 | B24: ='účast na závodech'!B22 -> Yacht Club Doksy | I24: ='účast na závodech'!D22 -> 0 | J24: =$B$2*(1-$D$1-$G$1)*I24 -> 0 | K24: =SUM(D24,G24,J24) -> 0 | M24: ='účast na závodech'!F22 -> 0 | N24: =K24-M24 -> 0 | O24: =A24 -> 1701 | P24: =B24 -> Yacht Club Doksy
A25: ='účast na závodech'!A23 -> 1702 | B25: ='účast na závodech'!B23 -> Jachtklub Máchova jezera Staré Splavy | C25: ='do-14-2024'!K11 -> 0.072727273 | D25: =$B$2*$D$1*C25 -> 20000 | F25: ='15-18-2024'!N13 -> 0.046511628 | G25: =$B$2*$G$1*F25 -> 20000 | I25: ='účast na závodech'!D23 -> 0.0464 | J25: =$B$2*(1-$D$1-$G$1)*I25 -> 8120 | K25: =SUM(D25,G25,J25) -> 48120 | M25: ='účast na závodech'!F23 -> 32480 | N25: =K25-M25 -> 15640 | O25: =A25 -> 1702 | P25: =B25 -> Jachtklub Máchova jezera Staré Splavy
A26: ='účast na závodech'!A24 -> 1703 | B26: ='účast na závodech'!B24 -> Jachtklub Česká Lípa | I26: ='účast na závodech'!D24 -> 0 | J26: =$B$2*(1-$D$1-$G$1)*I26 -> 0 | K26: =SUM(D26,G26,J26) -> 0 | M26: ='účast na závodech'!F24 -> 0 | N26: =K26-M26 -> 0 | O26: =A26 -> 1703 | P26: =B26 -> Jachtklub Česká Lípa
A27: ='účast na závodech'!A25 -> 1705 | B27: ='účast na závodech'!B25 -> TJ Delfín Jablonec | C27: ='do-14-2024'!K12 -> 0.072727273 | D27: =$B$2*$D$1*C27 -> 20000 | F27: ='15-18-2024'!N14 -> 0.058139535 | G27: =$B$2*$G$1*F27 -> 25000 | I27: ='účast na závodech'!D25 -> 0.072 | J27: =$B$2*(1-$D$1-$G$1)*I27 -> 12600 | K27: =SUM(D27,G27,J27) -> 57600 | M27: ='účast na závodech'!F25 -> 50400 | N27: =K27-M27 -> 7200 | O27: =A27 -> 1705 | P27: =B27 -> TJ Delfín Jablonec
A28: ='účast na závodech'!A26 -> 1801 | B28: ='účast na závodech'!B26 -> Slávia Česká Skalice | C28: ='do-14-2024'!K13 -> 0.072727273 | D28: =$B$2*$D$1*C28 -> 20000 | I28: ='účast na závodech'!D26 -> 0.0672 | J28: =$B$2*(1-$D$1-$G$1)*I28 -> 11760 | K28: =SUM(D28,G28,J28) -> 31760 | M28: ='účast na závodech'!F26 -> 47040 | N28: =K28-M28 -> -15280 | O28: =A28 -> 1801 | P28: =B28 -> Slávia Česká Skalice
A29: ='účast na závodech'!A27 -> 1901 | B29: ='účast na závodech'!B27 -> Yachtclub Pardubice | C29: ='do-14-2024'!K14 -> 0.072727273 | D29: =$B$2*$D$1*C29 -> 20000 | I29: ='účast na závodech'!D27 -> 0.0576 | J29: =$B$2*(1-$D$1-$G$1)*I29 -> 10080 | K29: =SUM(D29,G29,J29) -> 30080 | M29: ='účast na závodech'!F27 -> 40320 | N29: =K29-M29 -> -10240 | O29: =A29 -> 1901 | P29: =B29 -> Yachtclub Pardubice
A30: ='účast na závodech'!A28 -> 1902 | B30: ='účast na závodech'!B28 -> Yacht Club Vysoké Mýto | I30: ='účast na závodech'!D28 -> 0 | J30: =$B$2*(1-$D$1-$G$1)*I30 -> 0 | K30: =SUM(D30,G30,J30) -> 0 | M30: ='účast na závodech'!F28 -> 0 | N30: =K30-M30 -> 0 | O30: =A30 -> 1902 | P30: =B30 -> Yacht Club Vysoké Mýto
A31: ='účast na závodech'!A29 -> 1909 | B31: ='účast na závodech'!B29 -> TJ Lanškroun - Jachting | I31: ='účast na závodech'!D29 -> 0 | J31: =$B$2*(1-$D$1-$G$1)*I31 -> 0 | K31: =SUM(D31,G31,J31) -> 0 | M31: ='účast na závodech'!F29 -> 0 | N31: =K31-M31 -> 0 | O31: =A31 -> 1909 | P31: =B31 -> TJ Lanškroun - Jachting
A32: ='účast na závodech'!A30 -> 2001 | B32: ='účast na závodech'!B30 -> YC Velké Dářko | F32: ='15-18-2024'!N15 -> 0.011627907 | G32: =$B$2*$G$1*F32 -> 5000 | I32: ='účast na závodech'!D30 -> 0 | J32: =$B$2*(1-$D$1-$G$1)*I32 -> 0 | K32: =SUM(D32,G32,J32) -> 5000 | M32: ='účast na závodech'!F30 -> 0 | N32: =K32-M32 -> 5000 | O32: =A32 -> 2001 | P32: =B32 -> YC Velké Dářko
A33: ='účast na závodech'!A31 -> 2101 | B33: ='účast na závodech'!B31 -> Jachtklub Brno | C33: ='do-14-2024'!K15 -> 0.036363636 | D33: =$B$2*$D$1*C33 -> 10000 | F33: ='15-18-2024'!N16 -> 0.11627907 | G33: =$B$2*$G$1*F33 -> 50000 | I33: ='účast na závodech'!D31 -> 0.0368 | J33: =$B$2*(1-$D$1-$G$1)*I33 -> 6440 | K33: =SUM(D33,G33,J33) -> 66440 | M33: ='účast na závodech'!F31 -> 25760 | N33: =K33-M33 -> 40680 | O33: =A33 -> 2101 | P33: =B33 -> Jachtklub Brno
A34: ='účast na závodech'!A32 -> 2103 | B34: ='účast na závodech'!B32 -> TJ Lodní sporty Brno | C34: ='do-14-2024'!K16 -> 0.036363636 | D34: =$B$2*$D$1*C34 -> 10000 | F34: ='15-18-2024'!N17 -> 0.11627907 | G34: =$B$2*$G$1*F34 -> 50000 | I34: ='účast na závodech'!D32 -> 0.064 | J34: =$B$2*(1-$D$1-$G$1)*I34 -> 11200 | K34: =SUM(D34,G34,J34) -> 71200 | M34: ='účast na závodech'!F32 -> 44800 | N34: =K34-M34 -> 26400 | O34: =A34 -> 2103 | P34: =B34 -> TJ Lodní sporty Brno
A35: ='účast na závodech'!A33 -> 2109 | B35: ='účast na závodech'!B33 -> YC Dyje | I35: ='účast na závodech'!D33 -> 0 | J35: =$B$2*(1-$D$1-$G$1)*I35 -> 0 | K35: =SUM(D35,G35,J35) -> 0 | M35: ='účast na závodech'!F33 -> 0 | N35: =K35-M35 -> 0 | O35: =A35 -> 2109 | P35: =B35 -> YC Dyje
A36: ='účast na závodech'!A34 -> 2110 | B36: ='účast na závodech'!B34 -> TJ RAPID BRNO | F36: ='15-18-2024'!N18 -> 0.023255814 | G36: =$B$2*$G$1*F36 -> 10000 | I36: ='účast na závodech'!D34 -> 0.024 | J36: =$B$2*(1-$D$1-$G$1)*I36 -> 4200 | K36: =SUM(D36,G36,J36) -> 14200 | M36: ='účast na závodech'!F34 -> 16800 | N36: =K36-M36 -> -2600 | O36: =A36 -> 2110 | P36: =B36 -> TJ RAPID BRNO
A37: ='účast na závodech'!A35 -> 2116 | B37: ='účast na závodech'!B35 -> Moravský Yacht Klub | I37: ='účast na závodech'!D35 -> 0 | J37: =$B$2*(1-$D$1-$G$1)*I37 -> 0 | K37: =SUM(D37,G37,J37) -> 0 | M37: ='účast na závodech'!F35 -> 0 | N37: =K37-M37 -> 0 | O37: =A37 -> 2116 | P37: =B37 -> Moravský Yacht Klub
A38: ='účast na závodech'!A36 -> 2201 | B38: ='účast na závodech'!B36 -> JK Prostějov | I38: ='účast na závodech'!D36 -> 0 | J38: =$B$2*(1-$D$1-$G$1)*I38 -> 0 | K38: =SUM(D38,G38,J38) -> 0 | M38: ='účast na závodech'!F36 -> 0 | N38: =K38-M38 -> 0 | O38: =A38 -> 2201 | P38: =B38 -> JK Prostějov
A39: ='účast na závodech'!A37 -> 2205 | B39: ='účast na závodech'!B37 -> TJ Sokol Tovačov | F39: ='15-18-2024'!N19 -> 0.023255814 | G39: =$B$2*$G$1*F39 -> 10000 | I39: ='účast na závodech'!D37 -> 0.0288 | J39: =$B$2*(1-$D$1-$G$1)*I39 -> 5040 | K39: =SUM(D39,G39,J39) -> 15040 | M39: ='účast na závodech'!F37 -> 20160 | N39: =K39-M39 -> -5120 | O39: =A39 -> 2205 | P39: =B39 -> TJ Sokol Tovačov
A40: ='účast na závodech'!A38 -> 2301 | B40: ='účast na závodech'!B38 -> Lodní Sporty Kroměříž, JO | F40: ='15-18-2024'!N20 -> 0.023255814 | G40: =$B$2*$G$1*F40 -> 10000 | I40: ='účast na závodech'!D38 -> 0.016 | J40: =$B$2*(1-$D$1-$G$1)*I40 -> 2800 | K40: =SUM(D40,G40,J40) -> 12800 | M40: ='účast na závodech'!F38 -> 11200 | N40: =K40-M40 -> 1600 | O40: =A40 -> 2301 | P40: =B40 -> Lodní Sporty Kroměříž, JO
A41: ='účast na závodech'!A39 -> 2306 | B41: ='účast na závodech'!B39 -> AYCK z.s. | I41: ='účast na závodech'!D39 -> 0 | J41: =$B$2*(1-$D$1-$G$1)*I41 -> 0 | K41: =SUM(D41,G41,J41) -> 0 | M41: ='účast na závodech'!F39 -> 0 | N41: =K41-M41 -> 0 | O41: =A41 -> 2306 | P41: =B41 -> AYCK z.s.
A42: ='účast na závodech'!A40 -> 2403 | B42: ='účast na závodech'!B40 -> KJ Těrlicko | C42: ='do-14-2024'!K17 -> 0.036363636 | D42: =$B$2*$D$1*C42 -> 10000 | I42: ='účast na závodech'!D40 -> 0.0256 | J42: =$B$2*(1-$D$1-$G$1)*I42 -> 4480 | K42: =SUM(D42,G42,J42) -> 14480 | M42: ='účast na závodech'!F40 -> 17920 | N42: =K42-M42 -> -3440 | O42: =A42 -> 2403 | P42: =B42 -> KJ Těrlicko
A43: ='účast na závodech'!A41 -> 2404 | B43: ='účast na závodech'!B41 -> Yachtclub Baník Ostrava | I43: ='účast na závodech'!D41 -> 0.0208 | J43: =$B$2*(1-$D$1-$G$1)*I43 -> 3640 | K43: =SUM(D43,G43,J43) -> 3640 | M43: ='účast na závodech'!F41 -> 14560 | N43: =K43-M43 -> -10920 | O43: =A43 -> 2404 | P43: =B43 -> Yachtclub Baník Ostrava
A44: ='15-18-2024'!A21 -> 2405 | B44: ='15-18-2024'!B21 -> TJ Sokol Palkovice - oddíl jachtingu | F44: ='15-18-2024'!N21 -> 0.023255814 | G44: =$B$2*$G$1*F44 -> 10000 | K44: =SUM(D44,G44,J44) -> 10000 | N44: =K44-M44 -> 10000 | O44: =A44 -> 2405 | P44: =B44 -> TJ Sokol Palkovice - oddíl jachtingu
A45: ='účast na závodech'!A42 -> 2407 | B45: ='účast na závodech'!B42 -> YC Krnov | F45: ='15-18-2024'!N22 -> 0.011627907 | G45: =$B$2*$G$1*F45 -> 5000 | I45: ='účast na závodech'!D42 -> 0 | J45: =$B$2*(1-$D$1-$G$1)*I45 -> 0 | K45: =SUM(D45,G45,J45) -> 5000 | M45: ='účast na závodech'!F42 -> 0 | N45: =K45-M45 -> 5000 | O45: =A45 -> 2407 | P45: =B45 -> YC Krnov
A46: ='účast na závodech'!A43 -> 2408 | B46: ='účast na závodech'!B43 -> JK Ostrava Poruba | I46: ='účast na závodech'!D43 -> 0 | J46: =$B$2*(1-$D$1-$G$1)*I46 -> 0 | K46: =SUM(D46,G46,J46) -> 0 | M46: ='účast na závodech'!F43 -> 0 | N46: =K46-M46 -> 0 | O46: =A46 -> 2408 | P46: =B46 -> JK Ostrava Poruba
A47: ='účast na závodech'!A44 -> 2419 | B47: ='účast na závodech'!B44 -> Yacht Club Jezero Hlučín | F47: ='15-18-2024'!N23 -> 0.023255814 | G47: =$B$2*$G$1*F47 -> 10000 | I47: ='účast na závodech'!D44 -> 0 | J47: =$B$2*(1-$D$1-$G$1)*I47 -> 0 | K47: =SUM(D47,G47,J47) -> 10000 | M47: ='účast na závodech'!F44 -> 0 | N47: =K47-M47 -> 10000 | O47: =A47 -> 2419 | P47: =B47 -> Yacht Club Jezero Hlučín
A49: =SUMPRODUCT((A3:A48<>"")/(COUNTIF(A3:A48,A3:A48)+(A3:A48=""))) -> 45 | C49: =SUM(C3:C48) -> 1 | D49: =SUM(D3:D48) -> 275000 | F49: =SUM(F3:F48) -> 1 | G49: =SUM(G3:G48) -> 430000 | I49: =SUM(I3:I48) -> 1 | J49: =SUM(J3:J48) -> 175000 | K49: =SUM(K3:K48) -> 880000 | M49: =SUM(M3:M48) -> 700000 | N49: =SUM(N3:N48) -> 180000 | O49: =SUMPRODUCT((O3:O48<>"")/(COUNTIF(O3:O48,O3:O48)+(O3:O48=""))) -> 45

Sheet zapis
A1: Reg.č. | B1: Klub (celkem 40) | C1: Do 14 let | E1: 15 – 18 let | G1: Účast klubových týmů | H1: CELKEM | K1: NSA Můj klub
C2: Kč | E2: Kč | G2: Kč
A3: =CELKEM!A3 -> 1101 | B3: =CELKEM!B3 -> Český Yacht Klub | C3: =CELKEM!D3 -> 40000 | E3: =CELKEM!G3 -> 45000 | G3: =CELKEM!J3 -> 27160 | H3: =CELKEM!K3 -> 112160
A4: =CELKEM!A4 -> 1130 | B4: =CELKEM!B4 -> YC CERE Praha | C4: =CELKEM!D4 -> 20000 | E4: =CELKEM!G4 -> 60000 | G4: =CELKEM!J4 -> 29960 | H4: =CELKEM!K4 -> 109960
A5: =CELKEM!A7 -> 1203 | B5: =CELKEM!B7 -> YC Neratovice | C5: =CELKEM!D7 -> 0 | E5: =CELKEM!G7 -> 25000 | G5: =CELKEM!J7 -> 1120 | H5: =CELKEM!K7 -> 26120
A6: =CELKEM!A9 -> 1214 | B6: =CELKEM!B9 -> JK Toušeň | C6: =CELKEM!D9 -> 0 | E6: =CELKEM!G9 -> 30000 | G6: =CELKEM!J9 -> 4760 | H6: =CELKEM!K9 -> 34760
A7: =CELKEM!A10 -> 1302 | B7: =CELKEM!B10 -> DIM Bezdrev | C7: =CELKEM!D10 -> 0 | E7: =CELKEM!G10 -> 10000 | G7: =CELKEM!J10 -> 0 | H7: =CELKEM!K10 -> 10000
A8: =CELKEM!A11 -> 1305 | B8: =CELKEM!B11 -> YC Černá v Pošumaví | C8: =CELKEM!D11 -> 0 | E8: =CELKEM!G11 -> 0 | G8: =CELKEM!J11 -> 840 | H8: =CELKEM!K11 -> 840
A9: =CELKEM!A12 -> 1313 | B9: =CELKEM!B12 -> Yacht klub Jestřábí, z.s. | C9: =CELKEM!D12 -> 0 | E9: =CELKEM!G12 -> 5000 | G9: =CELKEM!J12 -> 0 | H9: =CELKEM!K12 -> 5000
A10: =CELKEM!A13 -> 1401 | B10: =CELKEM!B13 -> Lokomotiva Plzeň | C10: =CELKEM!D13 -> 10000 | E10: =CELKEM!G13 -> 0 | G10: =CELKEM!J13 -> 3360 | H10: =CELKEM!K13 -> 13360
A11: =CELKEM!A14 -> 1402 | B11: =CELKEM!B14 -> Jacht Klub Plzeň | C11: =CELKEM!D14 -> 30000 | E11: =CELKEM!G14 -> 10000 | G11: =CELKEM!J14 -> 3080 | H11: =CELKEM!K14 -> 43080
A12: =CELKEM!A15 -> 1406 | B12: =CELKEM!B15 -> TJ Prazdroj Plzeň z.s., JO | C12: =CELKEM!D15 -> 10000 | E12: =CELKEM!G15 -> 0 | G12: =CELKEM!J15 -> 0 | H12: =CELKEM!K15 -> 10000
A13: =CELKEM!A16 -> 1504 | B13: =CELKEM!B16 -> JK Cheb | C13: =CELKEM!D16 -> 0 | E13: =CELKEM!G16 -> 10000 | G13: =CELKEM!J16 -> 8680 | H13: =CELKEM!K16 -> 18680
A14: =CELKEM!A18 -> 1602 | B14: =CELKEM!B18 -> YCR JACHTING Roudnice nad Labem | C14: =CELKEM!D18 -> 5000 | E14: =CELKEM!G18 -> 0 | G14: =CELKEM!J18 -> 9520 | H14: =CELKEM!K18 -> 14520
A15: =CELKEM!A19 -> 1603 | B15: =CELKEM!B19 -> ASK Lovosice | C15: =CELKEM!D19 -> 0 | E15: =CELKEM!G19 -> 0 | G15: =CELKEM!J19 -> 1120 | H15: =CELKEM!K19 -> 1120
A16: =CELKEM!A20 -> 1604 | B16: =CELKEM!B20 -> Yacht Club Banik Most z.s. | C16: =CELKEM!D20 -> 40000 | E16: =CELKEM!G20 -> 0 | G16: =CELKEM!J20 -> 3360 | H16: =CELKEM!K20 -> 43360
A17: =CELKEM!A21 -> 1606 | B17: =CELKEM!B21 -> TJ VS Duchcov | C17: =CELKEM!D21 -> 10000 | E17: =CELKEM!G21 -> 10000 | G17: =CELKEM!J21 -> 840 | H17: =CELKEM!K21 -> 20840
A18: =CELKEM!A23 -> 1609 | B18: =CELKEM!B23 -> YC SK Štětí | C18: =CELKEM!D23 -> 0 | E18: =CELKEM!G23 -> 20000 | G18: =CELKEM!J23 -> 840 | H18: =CELKEM!K23 -> 20840
A19: =CELKEM!A25 -> 1702 | B19: =CELKEM!B25 -> Jachtklub Máchova jezera Staré Splavy | C19: =CELKEM!D25 -> 20000 | E19: =CELKEM!G25 -> 20000 | G19: =CELKEM!J25 -> 8120 | H19: =CELKEM!K25 -> 48120
A20: =CELKEM!A27 -> 1705 | B20: =CELKEM!B27 -> TJ Delfín Jablonec | C20: =CELKEM!D27 -> 20000 | E20: =CELKEM!G27 -> 25000 | G20: =CELKEM!J27 -> 12600 | H20: =CELKEM!K27 -> 57600
A21: =CELKEM!A28 -> 1801 | B21: =CELKEM!B28 -> Slávia Česká Skalice | C21: =CELKEM!D28 -> 20000 | E21: =CELKEM!G28 -> 0 | G21: =CELKEM!J28 -> 11760 | H21: =CELKEM!K28 -> 31760
A22: =CELKEM!A29 -> 1901 | B22: =CELKEM!B29 -> Yachtclub Pardubice | C22: =CELKEM!D29 -> 20000 | E22: =CELKEM!G29 -> 0 | G22: =CELKEM!J29 -> 10080 | H22: =CELKEM!K29 -> 30080
A23: =CELKEM!A32 -> 2001 | B23: =CELKEM!B32 -> YC Velké Dářko | C23: =CELKEM!D32 -> 0 | E23: =CELKEM!G32 -> 5000 | G23: =CELKEM!J32 -> 0 | H23: =CELKEM!K32 -> 5000
A24: =CELKEM!A33 -> 2101 | B24: =CELKEM!B33 -> Jachtklub Brno | C24: =CELKEM!D33 -> 10000 | E24: =CELKEM!G33 -> 50000 | G24: =CELKEM!J33 -> 6440 | H24: =CELKEM!K33 -> 66440
A25: =CELKEM!A34 -> 2103 | B25: =CELKEM!B34 -> TJ Lodní sporty Brno | C25: =CELKEM!D34 -> 10000 | E25: =CELKEM!G34 -> 50000 | G25: =CELKEM!J34 -> 11200 | H25: =CELKEM!K34 -> 71200
A26: =CELKEM!A36 -> 2110 | B26: =CELKEM!B36 -> TJ RAPID BRNO | C26: =CELKEM!D36 -> 0 | E26: =CELKEM!G36 -> 10000 | G26: =CELKEM!J36 -> 4200 | H26: =CELKEM!K36 -> 14200
A27: =CELKEM!A39 -> 2205 | B27: =CELKEM!B39 -> TJ Sokol Tovačov | C27: =CELKEM!D39 -> 0 | E27: =CELKEM!G39 -> 10000 | G27: =CELKEM!J39 -> 5040 | H27: =CELKEM!K39 -> 15040
A28: =CELKEM!A40 -> 2301 | B28: =CELKEM!B40 -> Lodní Sporty Kroměříž, JO | C28: =CELKEM!D40 -> 0 | E28: =CELKEM!G40 -> 10000 | G28: =CELKEM!J40 -> 2800 | H28: =CELKEM!K40 -> 12800
A29: =CELKEM!A42 -> 2403 | B29: =CELKEM!B42 -> KJ Těrlicko | C29: =CELKEM!D42 -> 10000 | E29: =CELKEM!G42 -> 0 | G29: =CELKEM!J42 -> 4480 | H29: =CELKEM!K42 -> 14480
A30: =CELKEM!A43 -> 2404 | B30: =CELKEM!B43 -> Yachtclub Baník Ostrava | C30: =CELKEM!D43 -> 0 | E30: =CELKEM!G43 -> 0 | G30: =CELKEM!J43 -> 3640 | H30: =CELKEM!K43 -> 3640
A31: =CELKEM!A44 -> 2405 | B31: =CELKEM!B44 -> TJ Sokol Palkovice - oddíl jachtingu | C31: =CELKEM!D44 -> 0 | E31: =CELKEM!G44 -> 10000 | G31: =CELKEM!J44 -> 0 | H31: =CELKEM!K44 -> 10000
A32: =CELKEM!A45 -> 2407 | B32: =CELKEM!B45 -> YC Krnov | C32: =CELKEM!D45 -> 0 | E32: =CELKEM!G45 -> 5000 | G32: =CELKEM!J45 -> 0 | H32: =CELKEM!K45 -> 5000
A33: =CELKEM!A47 -> 2419 | B33: =CELKEM!B47 -> Yacht Club Jezero Hlučín | C33: =CELKEM!D47 -> 0 | E33: =CELKEM!G47 -> 10000 | G33: =CELKEM!J47 -> 0 | H33: =CELKEM!K47 -> 10000
C35: =SUM(C3:C34) -> 275000 | E35: =SUM(E3:E34) -> 430000 | G35: =SUM(G3:G34) -> 175000 | H35: =SUM(H3:H34) -> 880000
